Package: crisprBowtie Version: 1.10.0 Command: /Library/Frameworks/R.framework/Resources/bin/R CMD check --install=check:crisprBowtie.install-out.txt --library=/Library/Frameworks/R.framework/Resources/library --no-vignettes --timings crisprBowtie_1.10.0.tar.gz StartedAt: 2025-02-04 16:16:22 -0500 (Tue, 04 Feb 2025) EndedAt: 2025-02-04 16:20:53 -0500 (Tue, 04 Feb 2025) EllapsedTime: 271.1 seconds RetCode: 0 Status: OK CheckDir: crisprBowtie.Rcheck Warnings: 0