Package: crisprBowtie Version: 1.10.0 Command: /home/biocbuild/bbs-3.20-bioc/R/bin/R CMD INSTALL crisprBowtie StartedAt: 2025-02-03 15:32:51 -0500 (Mon, 03 Feb 2025) EndedAt: 2025-02-03 15:33:23 -0500 (Mon, 03 Feb 2025) EllapsedTime: 32.2 seconds RetCode: 0 Status: OK