Package: crisprBowtie Version: 1.10.0 Command: /home/biocbuild/R/R/bin/R CMD build --keep-empty-dirs --no-resave-data crisprBowtie StartedAt: 2025-02-03 22:53:20 -0000 (Mon, 03 Feb 2025) EndedAt: 2025-02-03 22:54:14 -0000 (Mon, 03 Feb 2025) EllapsedTime: 54.0 seconds RetCode: 0 Status: OK PackageFile: crisprBowtie_1.10.0.tar.gz PackageFileSize: 386.6 KiB