Package: crisprBowtie Version: 1.10.0 Command: /home/biocbuild/R/R/bin/R CMD check --install=check:crisprBowtie.install-out.txt --library=/home/biocbuild/R/R/site-library --no-vignettes --timings crisprBowtie_1.10.0.tar.gz StartedAt: 2025-02-04 05:59:44 -0000 (Tue, 04 Feb 2025) EndedAt: 2025-02-04 06:04:23 -0000 (Tue, 04 Feb 2025) EllapsedTime: 279.2 seconds RetCode: 0 Status: OK CheckDir: crisprBowtie.Rcheck Warnings: 0