Package: crisprBowtie Version: 1.10.0 Command: /home/biocbuild/R/R/bin/R CMD INSTALL crisprBowtie StartedAt: 2025-02-03 20:42:36 -0000 (Mon, 03 Feb 2025) EndedAt: 2025-02-03 20:43:15 -0000 (Mon, 03 Feb 2025) EllapsedTime: 39.0 seconds RetCode: 0 Status: OK