Package: crisprDesign Version: 1.8.0 Command: /Library/Frameworks/R.framework/Resources/bin/R CMD build --keep-empty-dirs --no-resave-data crisprDesign StartedAt: 2025-02-03 21:33:12 -0500 (Mon, 03 Feb 2025) EndedAt: 2025-02-03 21:35:04 -0500 (Mon, 03 Feb 2025) EllapsedTime: 111.8 seconds RetCode: 0 Status: OK PackageFile: crisprDesign_1.8.0.tar.gz PackageFileSize: 2.562 MiB