Package: crisprDesign Version: 1.8.0 Command: /Library/Frameworks/R.framework/Resources/bin/R CMD check --install=check:crisprDesign.install-out.txt --library=/Library/Frameworks/R.framework/Resources/library --no-vignettes --timings crisprDesign_1.8.0.tar.gz StartedAt: 2025-02-04 16:20:53 -0500 (Tue, 04 Feb 2025) EndedAt: 2025-02-04 16:30:51 -0500 (Tue, 04 Feb 2025) EllapsedTime: 597.8 seconds RetCode: 0 Status: OK CheckDir: crisprDesign.Rcheck Warnings: 0