Package: crisprDesign Version: 1.8.0 Command: /Library/Frameworks/R.framework/Resources/bin/R CMD INSTALL crisprDesign StartedAt: 2025-02-03 16:22:42 -0500 (Mon, 03 Feb 2025) EndedAt: 2025-02-03 16:23:43 -0500 (Mon, 03 Feb 2025) EllapsedTime: 61.1 seconds RetCode: 0 Status: OK