Package: crisprDesign Version: 1.8.0 Command: rm -rf crisprDesign.buildbin-libdir && mkdir crisprDesign.buildbin-libdir && /Users/biocbuild/BBS/utils/build-universal.sh crisprDesign_1.8.0.tar.gz /Library/Frameworks/R.framework/Resources/bin/R crisprDesign.buildbin-libdir StartedAt: 2025-02-04 12:44:28 -0500 (Tue, 04 Feb 2025) EndedAt: 2025-02-04 12:46:25 -0500 (Tue, 04 Feb 2025) EllapsedTime: 117.7 seconds RetCode: 0 Status: OK PackageFile: crisprDesign_1.8.0.tgz PackageFileSize: 3.567 MiB