Package: crisprDesign Version: 1.8.0 Command: /home/biocbuild/bbs-3.20-bioc/R/bin/R CMD check --install=check:crisprDesign.install-out.txt --library=/home/biocbuild/bbs-3.20-bioc/R/site-library --timings crisprDesign_1.8.0.tar.gz StartedAt: 2025-02-03 21:21:44 -0500 (Mon, 03 Feb 2025) EndedAt: 2025-02-03 21:31:30 -0500 (Mon, 03 Feb 2025) EllapsedTime: 586.5 seconds RetCode: 0 Status: OK CheckDir: crisprDesign.Rcheck Warnings: 0