Package: crisprDesign Version: 1.8.0 Command: /home/biocbuild/bbs-3.20-bioc/R/bin/R CMD INSTALL crisprDesign StartedAt: 2025-02-03 15:36:18 -0500 (Mon, 03 Feb 2025) EndedAt: 2025-02-03 15:37:11 -0500 (Mon, 03 Feb 2025) EllapsedTime: 52.7 seconds RetCode: 0 Status: OK