Package: crisprDesign Version: 1.8.0 Command: F:\biocbuild\bbs-3.20-bioc\R\bin\R.exe CMD INSTALL crisprDesign StartedAt: 2025-02-03 16:55:50 -0500 (Mon, 03 Feb 2025) EndedAt: 2025-02-03 16:57:46 -0500 (Mon, 03 Feb 2025) EllapsedTime: 115.7 seconds RetCode: 0 Status: OK