Package: crisprScore Version: 1.10.0 Command: rm -rf crisprScore.buildbin-libdir && mkdir crisprScore.buildbin-libdir && /Users/biocbuild/BBS/utils/build-universal.sh crisprScore_1.10.0.tar.gz /Library/Frameworks/R.framework/Resources/bin/R crisprScore.buildbin-libdir StartedAt: 2025-02-01 14:29:54 -0500 (Sat, 01 Feb 2025) EndedAt: 2025-02-01 14:30:18 -0500 (Sat, 01 Feb 2025) EllapsedTime: 25.0 seconds RetCode: 0 Status: OK PackageFile: crisprScore_1.10.0.tgz PackageFileSize: 4.403 MiB