Package: crisprScore Version: 1.10.0 Command: rm -rf crisprScore.buildbin-libdir && mkdir crisprScore.buildbin-libdir && /Users/biocbuild/BBS/utils/build-universal.sh crisprScore_1.10.0.tar.gz /Library/Frameworks/R.framework/Resources/bin/R crisprScore.buildbin-libdir StartedAt: 2025-01-31 12:36:16 -0500 (Fri, 31 Jan 2025) EndedAt: 2025-01-31 12:36:59 -0500 (Fri, 31 Jan 2025) EllapsedTime: 42.3 seconds RetCode: 0 Status: OK PackageFile: crisprScore_1.10.0.tgz PackageFileSize: 4.403 MiB