Package: crisprScore Version: 1.10.0 Command: /Library/Frameworks/R.framework/Resources/bin/R CMD build --keep-empty-dirs --no-resave-data crisprScore StartedAt: 2025-01-30 18:16:15 -0500 (Thu, 30 Jan 2025) EndedAt: 2025-01-30 18:17:30 -0500 (Thu, 30 Jan 2025) EllapsedTime: 74.2 seconds RetCode: 0 Status: OK PackageFile: crisprScore_1.10.0.tar.gz PackageFileSize: 4.506 MiB