Package: crisprScore Version: 1.10.0 Command: /Library/Frameworks/R.framework/Resources/bin/R CMD check --install=check:crisprScore.install-out.txt --library=/Library/Frameworks/R.framework/Resources/library --no-vignettes --timings crisprScore_1.10.0.tar.gz StartedAt: 2025-01-31 02:15:01 -0500 (Fri, 31 Jan 2025) EndedAt: 2025-01-31 02:20:24 -0500 (Fri, 31 Jan 2025) EllapsedTime: 323.2 seconds RetCode: 0 Status: OK CheckDir: crisprScore.Rcheck Warnings: 0