Package: crisprScore Version: 1.10.0 Command: /Library/Frameworks/R.framework/Resources/bin/R CMD INSTALL crisprScore StartedAt: 2025-01-30 15:34:13 -0500 (Thu, 30 Jan 2025) EndedAt: 2025-01-30 15:34:49 -0500 (Thu, 30 Jan 2025) EllapsedTime: 36.4 seconds RetCode: 0 Status: OK