Package: crisprScore Version: 1.10.0 Command: /home/biocbuild/bbs-3.20-bioc/R/bin/R CMD build --keep-empty-dirs --no-resave-data --md5 crisprScore StartedAt: 2025-01-30 16:51:59 -0500 (Thu, 30 Jan 2025) EndedAt: 2025-01-30 16:52:23 -0500 (Thu, 30 Jan 2025) EllapsedTime: 24.0 seconds RetCode: 0 Status: OK PackageFile: crisprScore_1.10.0.tar.gz PackageFileSize: 4.514 MiB