Package: crisprScore Version: 1.10.0 Command: rm -rf crisprScore.buildbin-libdir && mkdir crisprScore.buildbin-libdir && F:\biocbuild\bbs-3.20-bioc\R\bin\R.exe CMD INSTALL --build --library=crisprScore.buildbin-libdir crisprScore_1.10.0.tar.gz StartedAt: 2025-01-31 08:27:23 -0500 (Fri, 31 Jan 2025) EndedAt: 2025-01-31 08:33:17 -0500 (Fri, 31 Jan 2025) EllapsedTime: 353.8 seconds RetCode: 0 Status: OK PackageFile: crisprScore_1.10.0.zip PackageFileSize: 4.432 MiB