Package: crisprScore Version: 1.10.0 Command: chmod a+r crisprScore -R && F:\biocbuild\bbs-3.20-bioc\R\bin\R.exe --arch x64 CMD build --keep-empty-dirs --no-resave-data crisprScore StartedAt: 2025-01-30 18:09:53 -0500 (Thu, 30 Jan 2025) EndedAt: 2025-01-30 18:10:50 -0500 (Thu, 30 Jan 2025) EllapsedTime: 56.5 seconds RetCode: 0 Status: OK PackageFile: crisprScore_1.10.0.tar.gz PackageFileSize: 4.506 MiB