Package: crisprScore Version: 1.10.0 Command: F:\biocbuild\bbs-3.20-bioc\R\bin\R.exe CMD INSTALL crisprScore StartedAt: 2025-01-30 15:45:20 -0500 (Thu, 30 Jan 2025) EndedAt: 2025-01-30 15:47:36 -0500 (Thu, 30 Jan 2025) EllapsedTime: 136.0 seconds RetCode: 0 Status: OK