Package: crisprScore Version: 1.10.0 Command: /home/biocbuild/R/R/bin/R CMD build --keep-empty-dirs --no-resave-data crisprScore StartedAt: 2025-01-30 22:54:27 -0000 (Thu, 30 Jan 2025) EndedAt: 2025-01-30 22:54:58 -0000 (Thu, 30 Jan 2025) EllapsedTime: 31.0 seconds RetCode: 0 Status: OK PackageFile: crisprScore_1.10.0.tar.gz PackageFileSize: 4.572 MiB