Package: crisprScore Version: 1.10.0 Command: /home/biocbuild/R/R/bin/R CMD check --install=check:crisprScore.install-out.txt --library=/home/biocbuild/R/R/site-library --no-vignettes --timings crisprScore_1.10.0.tar.gz StartedAt: 2025-01-31 05:16:21 -0000 (Fri, 31 Jan 2025) EndedAt: 2025-01-31 05:19:15 -0000 (Fri, 31 Jan 2025) EllapsedTime: 173.1 seconds RetCode: 0 Status: OK CheckDir: crisprScore.Rcheck Warnings: 0