Package: crisprScore Version: 1.10.0 Command: /home/biocbuild/R/R/bin/R CMD INSTALL crisprScore StartedAt: 2025-01-30 20:24:59 -0000 (Thu, 30 Jan 2025) EndedAt: 2025-01-30 20:25:19 -0000 (Thu, 30 Jan 2025) EllapsedTime: 20.8 seconds RetCode: 0 Status: OK