Package: crisprShiny Version: 1.2.0 Command: /Library/Frameworks/R.framework/Resources/bin/R CMD INSTALL crisprShiny StartedAt: 2025-02-03 16:11:56 -0500 (Mon, 03 Feb 2025) EndedAt: 2025-02-03 16:13:44 -0500 (Mon, 03 Feb 2025) EllapsedTime: 108.3 seconds RetCode: 0 Status: OK