Package: crisprShiny Version: 1.2.0 Command: rm -rf crisprShiny.buildbin-libdir && mkdir crisprShiny.buildbin-libdir && F:\biocbuild\bbs-3.20-bioc\R\bin\R.exe CMD INSTALL --build --library=crisprShiny.buildbin-libdir crisprShiny_1.2.0.tar.gz StartedAt: 2025-02-04 08:17:24 -0500 (Tue, 04 Feb 2025) EndedAt: 2025-02-04 08:18:41 -0500 (Tue, 04 Feb 2025) EllapsedTime: 76.6 seconds RetCode: 0 Status: OK PackageFile: crisprShiny_1.2.0.zip PackageFileSize: 1.296 MiB