Package: crisprVerse Version: 1.8.0 Command: rm -rf crisprVerse.buildbin-libdir && mkdir crisprVerse.buildbin-libdir && /Users/biocbuild/BBS/utils/build-universal.sh crisprVerse_1.8.0.tar.gz /Library/Frameworks/R.framework/Resources/bin/R crisprVerse.buildbin-libdir StartedAt: 2025-02-05 15:25:22 -0500 (Wed, 05 Feb 2025) EndedAt: 2025-02-05 15:26:27 -0500 (Wed, 05 Feb 2025) EllapsedTime: 64.7 seconds RetCode: 0 Status: OK PackageFile: crisprVerse_1.8.0.tgz PackageFileSize: 308.8 KiB