Package: crisprVerse Version: 1.8.0 Command: /Library/Frameworks/R.framework/Resources/bin/R CMD INSTALL crisprVerse StartedAt: 2025-02-10 16:01:08 -0500 (Mon, 10 Feb 2025) EndedAt: 2025-02-10 16:02:51 -0500 (Mon, 10 Feb 2025) EllapsedTime: 103.2 seconds RetCode: 0 Status: OK