Package: crisprVerse Version: 1.8.0 Command: /home/biocbuild/bbs-3.20-bioc/R/bin/R CMD check --install=check:crisprVerse.install-out.txt --library=/home/biocbuild/bbs-3.20-bioc/R/site-library --timings crisprVerse_1.8.0.tar.gz StartedAt: 2025-02-10 21:15:50 -0500 (Mon, 10 Feb 2025) EndedAt: 2025-02-10 21:22:33 -0500 (Mon, 10 Feb 2025) EllapsedTime: 403.3 seconds RetCode: 0 Status: OK CheckDir: crisprVerse.Rcheck Warnings: 0