Package: crisprVerse Version: 1.8.0 Command: rm -rf crisprVerse.buildbin-libdir && mkdir crisprVerse.buildbin-libdir && F:\biocbuild\bbs-3.20-bioc\R\bin\R.exe CMD INSTALL --build --library=crisprVerse.buildbin-libdir crisprVerse_1.8.0.tar.gz StartedAt: 2025-02-11 08:14:46 -0500 (Tue, 11 Feb 2025) EndedAt: 2025-02-11 08:15:52 -0500 (Tue, 11 Feb 2025) EllapsedTime: 66.2 seconds RetCode: 0 Status: OK PackageFile: crisprVerse_1.8.0.zip PackageFileSize: 313.2 KiB