Package: crisprVerse Version: 1.8.0 Command: chmod a+r crisprVerse -R && F:\biocbuild\bbs-3.20-bioc\R\bin\R.exe CMD build --keep-empty-dirs --no-resave-data crisprVerse StartedAt: 2025-02-10 18:19:01 -0500 (Mon, 10 Feb 2025) EndedAt: 2025-02-10 18:20:27 -0500 (Mon, 10 Feb 2025) EllapsedTime: 85.4 seconds RetCode: 0 Status: OK PackageFile: crisprVerse_1.8.0.tar.gz PackageFileSize: 296 KiB