Package: crisprVerse Version: 1.8.0 Command: /home/biocbuild/R/R/bin/R CMD build --keep-empty-dirs --no-resave-data crisprVerse StartedAt: 2025-02-10 22:42:44 -0000 (Mon, 10 Feb 2025) EndedAt: 2025-02-10 22:44:05 -0000 (Mon, 10 Feb 2025) EllapsedTime: 81.0 seconds RetCode: 0 Status: OK PackageFile: crisprVerse_1.8.0.tar.gz PackageFileSize: 361.6 KiB