Package: crisprVerse Version: 1.8.0 Command: /home/biocbuild/R/R/bin/R CMD check --install=check:crisprVerse.install-out.txt --library=/home/biocbuild/R/R/site-library --no-vignettes --timings crisprVerse_1.8.0.tar.gz StartedAt: 2025-02-11 05:12:52 -0000 (Tue, 11 Feb 2025) EndedAt: 2025-02-11 05:20:20 -0000 (Tue, 11 Feb 2025) EllapsedTime: 448.3 seconds RetCode: 0 Status: OK CheckDir: crisprVerse.Rcheck Warnings: 0