Package: crisprViz Version: 1.8.0 Command: /Library/Frameworks/R.framework/Resources/bin/R CMD INSTALL crisprViz StartedAt: 2025-01-30 16:03:36 -0500 (Thu, 30 Jan 2025) EndedAt: 2025-01-30 16:05:26 -0500 (Thu, 30 Jan 2025) EllapsedTime: 109.8 seconds RetCode: 0 Status: OK