Package: crisprViz Version: 1.8.0 Command: chmod a+r crisprViz -R && F:\biocbuild\bbs-3.20-bioc\R\bin\R.exe CMD build --keep-empty-dirs --no-resave-data crisprViz StartedAt: 2025-01-30 18:10:51 -0500 (Thu, 30 Jan 2025) EndedAt: 2025-01-30 18:13:57 -0500 (Thu, 30 Jan 2025) EllapsedTime: 185.8 seconds RetCode: 0 Status: OK PackageFile: crisprViz_1.8.0.tar.gz PackageFileSize: 689.6 KiB