Package: crisprViz Version: 1.8.0 Command: /home/biocbuild/R/R/bin/R CMD build --keep-empty-dirs --no-resave-data crisprViz StartedAt: 2025-02-03 22:54:13 -0000 (Mon, 03 Feb 2025) EndedAt: 2025-02-03 22:57:14 -0000 (Mon, 03 Feb 2025) EllapsedTime: 181.1 seconds RetCode: 0 Status: OK PackageFile: crisprViz_1.8.0.tar.gz PackageFileSize: 868.9 KiB