Package: crlmm Version: 1.64.0 Command: rm -rf crlmm.buildbin-libdir && mkdir crlmm.buildbin-libdir && /Users/biocbuild/BBS/utils/build-universal.sh crlmm_1.64.0.tar.gz /Library/Frameworks/R.framework/Resources/bin/R crlmm.buildbin-libdir StartedAt: 2025-02-12 14:40:10 -0500 (Wed, 12 Feb 2025) EndedAt: 2025-02-12 14:40:57 -0500 (Wed, 12 Feb 2025) EllapsedTime: 46.4 seconds RetCode: 0 Status: OK PackageFile: crlmm_1.64.0.tgz PackageFileSize: 5.201 MiB