Package: crlmm Version: 1.64.0 Command: /Library/Frameworks/R.framework/Resources/bin/R CMD INSTALL crlmm StartedAt: 2025-02-03 15:42:41 -0500 (Mon, 03 Feb 2025) EndedAt: 2025-02-03 15:44:14 -0500 (Mon, 03 Feb 2025) EllapsedTime: 93.0 seconds RetCode: 0 Status: OK