Package: crlmm Version: 1.64.0 Command: chmod a+r crlmm -R && F:\biocbuild\bbs-3.20-bioc\R\bin\R.exe CMD build --keep-empty-dirs --no-resave-data crlmm StartedAt: 2025-02-10 18:19:33 -0500 (Mon, 10 Feb 2025) EndedAt: 2025-02-10 18:22:46 -0500 (Mon, 10 Feb 2025) EllapsedTime: 193.0 seconds RetCode: 0 Status: OK PackageFile: crlmm_1.64.0.tar.gz PackageFileSize: 4.092 MiB