Package: crlmm Version: 1.64.0 Command: F:\biocbuild\bbs-3.20-bioc\R\bin\R.exe CMD INSTALL crlmm StartedAt: 2025-02-03 16:28:37 -0500 (Mon, 03 Feb 2025) EndedAt: 2025-02-03 16:30:12 -0500 (Mon, 03 Feb 2025) EllapsedTime: 95.3 seconds RetCode: 0 Status: OK