Package: crlmm Version: 1.64.0 Command: /home/biocbuild/R/R/bin/R CMD INSTALL crlmm StartedAt: 2025-02-03 20:41:10 -0000 (Mon, 03 Feb 2025) EndedAt: 2025-02-03 20:42:05 -0000 (Mon, 03 Feb 2025) EllapsedTime: 54.8 seconds RetCode: 0 Status: OK