Package: crossmeta Version: 1.32.0 Command: /Library/Frameworks/R.framework/Resources/bin/R CMD INSTALL crossmeta StartedAt: 2025-02-03 17:11:55 -0500 (Mon, 03 Feb 2025) EndedAt: 2025-02-03 17:12:11 -0500 (Mon, 03 Feb 2025) EllapsedTime: 16.6 seconds RetCode: 0 Status: OK