Package: crossmeta Version: 1.32.0 Command: F:\biocbuild\bbs-3.20-bioc\R\bin\R.exe CMD check --no-multiarch --install=check:crossmeta.install-out.txt --library=F:\biocbuild\bbs-3.20-bioc\R\library --no-vignettes --timings crossmeta_1.32.0.tar.gz StartedAt: 2025-02-11 00:39:13 -0500 (Tue, 11 Feb 2025) EndedAt: 2025-02-11 00:41:34 -0500 (Tue, 11 Feb 2025) EllapsedTime: 140.9 seconds RetCode: 1 Status: ERROR CheckDir: crossmeta.Rcheck Warnings: NA