Package: crossmeta Version: 1.32.0 Command: /home/biocbuild/R/R/bin/R CMD build --keep-empty-dirs --no-resave-data crossmeta StartedAt: 2025-02-03 22:54:16 -0000 (Mon, 03 Feb 2025) EndedAt: 2025-02-03 22:56:16 -0000 (Mon, 03 Feb 2025) EllapsedTime: 120.0 seconds RetCode: 0 Status: OK PackageFile: crossmeta_1.32.0.tar.gz PackageFileSize: 2.975 MiB