Package: csaw Version: 1.40.0 Command: rm -rf csaw.buildbin-libdir && mkdir csaw.buildbin-libdir && /Users/biocbuild/BBS/utils/build-universal.sh csaw_1.40.0.tar.gz /Library/Frameworks/R.framework/Resources/bin/R csaw.buildbin-libdir StartedAt: 2025-02-05 15:26:27 -0500 (Wed, 05 Feb 2025) EndedAt: 2025-02-05 15:27:52 -0500 (Wed, 05 Feb 2025) EllapsedTime: 85.3 seconds RetCode: 0 Status: OK PackageFile: csaw_1.40.0.tgz PackageFileSize: 1.206 MiB