Package: csaw Version: 1.40.0 Command: /Library/Frameworks/R.framework/Resources/bin/R CMD build --keep-empty-dirs --no-resave-data csaw StartedAt: 2025-02-03 21:40:09 -0500 (Mon, 03 Feb 2025) EndedAt: 2025-02-03 21:41:40 -0500 (Mon, 03 Feb 2025) EllapsedTime: 90.8 seconds RetCode: 0 Status: OK PackageFile: csaw_1.40.0.tar.gz PackageFileSize: 389 KiB