Package: csdR Version: 1.12.0 Command: rm -rf csdR.buildbin-libdir && mkdir csdR.buildbin-libdir && /Users/biocbuild/BBS/utils/build-universal.sh csdR_1.12.0.tar.gz /Library/Frameworks/R.framework/Resources/bin/R csdR.buildbin-libdir StartedAt: 2025-02-04 12:45:07 -0500 (Tue, 04 Feb 2025) EndedAt: 2025-02-04 12:46:18 -0500 (Tue, 04 Feb 2025) EllapsedTime: 70.6 seconds RetCode: 0 Status: OK PackageFile: csdR_1.12.0.tgz PackageFileSize: 1.512 MiB