Package: csdR Version: 1.12.0 Command: /Library/Frameworks/R.framework/Resources/bin/R CMD build --keep-empty-dirs --no-resave-data csdR StartedAt: 2025-02-03 18:12:09 -0500 (Mon, 03 Feb 2025) EndedAt: 2025-02-03 18:13:45 -0500 (Mon, 03 Feb 2025) EllapsedTime: 95.8 seconds RetCode: 0 Status: OK PackageFile: csdR_1.12.0.tar.gz PackageFileSize: 1.458 MiB