Package: csdR Version: 1.12.0 Command: /home/biocbuild/bbs-3.20-bioc/R/bin/R CMD check --install=check:csdR.install-out.txt --library=/home/biocbuild/bbs-3.20-bioc/R/site-library --timings csdR_1.12.0.tar.gz StartedAt: 2025-02-03 21:24:48 -0500 (Mon, 03 Feb 2025) EndedAt: 2025-02-03 21:29:35 -0500 (Mon, 03 Feb 2025) EllapsedTime: 287.2 seconds RetCode: 0 Status: OK CheckDir: csdR.Rcheck Warnings: 0