Package: csdR Version: 1.12.0 Command: /home/biocbuild/R/R/bin/R CMD check --install=check:csdR.install-out.txt --library=/home/biocbuild/R/R/site-library --no-vignettes --timings csdR_1.12.0.tar.gz StartedAt: 2025-02-04 06:03:18 -0000 (Tue, 04 Feb 2025) EndedAt: 2025-02-04 06:06:55 -0000 (Tue, 04 Feb 2025) EllapsedTime: 217.2 seconds RetCode: 0 Status: OK CheckDir: csdR.Rcheck Warnings: 0